BEGIN:VCALENDAR
VERSION:2.0
PRODID:-//Squarespace Inc/Squarespace 6//v6//EN
BEGIN:VEVENT
UID:5b88bab103ce64f26adb1fb8@squarespace.com
DTSTAMP:20180910T032040Z
DTSTART:20180930T133000Z
DTEND:20180930T150000Z
SUMMARY:Morning Service
END:VEVENT
END:VCALENDAR
