BEGIN:VCALENDAR
VERSION:2.0
PRODID:-//Squarespace Inc/Squarespace 6//v6//EN
BEGIN:VEVENT
UID:5b88bbc3575d1fb403f71328@squarespace.com
DTSTAMP:20180831T040804Z
DTSTART:20180930T223000Z
DTEND:20181001T010000Z
SUMMARY:Evening Service
END:VEVENT
END:VCALENDAR
