BEGIN:VCALENDAR
VERSION:2.0
PRODID:-//Squarespace Inc/Squarespace 6//v6//EN
BEGIN:VEVENT
UID:5b46c4c1f950b7b6b70a74c6@squarespace.com
DTSTAMP:20180712T030356Z
DTSTART:20180902T223000Z
DTEND:20180903T010000Z
SUMMARY:Evening Service
END:VEVENT
END:VCALENDAR
