BEGIN:VCALENDAR
VERSION:2.0
PRODID:-//Squarespace Inc/Squarespace 6//v6//EN
BEGIN:VEVENT
UID:5b46b696758d46a136fa9978@squarespace.com
DTSTAMP:20180712T020514Z
DTSTART:20180805T133000Z
DTEND:20180805T150000Z
SUMMARY:Morning Service
END:VEVENT
END:VCALENDAR
