BEGIN:VCALENDAR
VERSION:2.0
PRODID:-//Squarespace Inc/Squarespace 6//v6//EN
BEGIN:VEVENT
UID:5b46b765562fa7d57a9ec491@squarespace.com
DTSTAMP:20180716T030255Z
DTSTART:20180805T223000Z
DTEND:20180806T010000Z
SUMMARY:Evening Service
END:VEVENT
END:VCALENDAR
