BEGIN:VCALENDAR
VERSION:2.0
PRODID:-//Squarespace Inc/Squarespace 6//v6//EN
BEGIN:VEVENT
UID:5b46bed30e2e725582f82948@squarespace.com
DTSTAMP:20180716T030338Z
DTSTART:20180819T223000Z
DTEND:20180820T010000Z
SUMMARY:Evening Service
END:VEVENT
END:VCALENDAR
