BEGIN:VCALENDAR
VERSION:2.0
PRODID:-//Squarespace Inc/Squarespace 6//v6//EN
BEGIN:VEVENT
UID:5b46b7d4aa4a99d99e90a8cb@squarespace.com
DTSTAMP:20180712T022004Z
DTSTART:20180812T133000Z
DTEND:20180812T150000Z
SUMMARY:Morning Service
END:VEVENT
END:VCALENDAR
