BEGIN:VCALENDAR
VERSION:2.0
PRODID:-//Squarespace Inc/Squarespace 6//v6//EN
BEGIN:VEVENT
UID:5b46b3bf575d1f245868a527@squarespace.com
DTSTAMP:20180716T030125Z
DTSTART:20180729T223000Z
DTEND:20180730T010000Z
SUMMARY:Evening Serive
END:VEVENT
END:VCALENDAR
