BEGIN:VCALENDAR
VERSION:2.0
PRODID:-//Squarespace Inc/Squarespace 6//v6//EN
BEGIN:VEVENT
UID:5b0f4ddc575d1f1f43ab252a@squarespace.com
DTSTAMP:20180531T014523Z
DTSTART:20180603T133000Z
DTEND:20180603T150000Z
SUMMARY:Morning Service
END:VEVENT
END:VCALENDAR
