BEGIN:VCALENDAR
VERSION:2.0
PRODID:-//Squarespace Inc/Squarespace 6//v6//EN
BEGIN:VEVENT
UID:5b0f53d203ce64057c7c7ad1@squarespace.com
DTSTAMP:20180531T021039Z
DTSTART:20180603T223000Z
DTEND:20180604T010000Z
SUMMARY:Evening Service
END:VEVENT
END:VCALENDAR
