BEGIN:VCALENDAR
VERSION:2.0
PRODID:-//Squarespace Inc/Squarespace 6//v6//EN
BEGIN:VEVENT
UID:5b0f5eaf1ae6cfb8a0425983@squarespace.com
DTSTAMP:20180531T023323Z
DTSTART:20180624T133000Z
DTEND:20180624T150000Z
SUMMARY:Morning Service
END:VEVENT
END:VCALENDAR
