BEGIN:VCALENDAR
VERSION:2.0
PRODID:-//Squarespace Inc/Squarespace 6//v6//EN
BEGIN:VEVENT
UID:5b0f5c3488251b183e88c7a2@squarespace.com
DTSTAMP:20180531T022311Z
DTSTART:20180617T133000Z
DTEND:20180617T150000Z
SUMMARY:Morning Service
END:VEVENT
END:VCALENDAR
