BEGIN:VCALENDAR
VERSION:2.0
PRODID:-//Squarespace Inc/Squarespace 6//v6//EN
BEGIN:VEVENT
UID:5b0f59c1758d464ac1b6facb@squarespace.com
DTSTAMP:20180531T021839Z
DTSTART:20180610T133000Z
DTEND:20180610T150000Z
SUMMARY:Morning Service
END:VEVENT
END:VCALENDAR
