BEGIN:VCALENDAR
VERSION:2.0
PRODID:-//Squarespace Inc/Squarespace 6//v6//EN
BEGIN:VEVENT
UID:5b0f5ba31ae6cfb8a041e09f@squarespace.com
DTSTAMP:20180531T022109Z
DTSTART:20180610T223000Z
DTEND:20180611T010000Z
SUMMARY:Evening Service
END:VEVENT
END:VCALENDAR
