BEGIN:VCALENDAR
VERSION:2.0
PRODID:-//Squarespace Inc/Squarespace 6//v6//EN
BEGIN:VEVENT
UID:5ad02158562fa7b8c902036b@squarespace.com
DTSTAMP:20180413T032105Z
DTSTART:20180506T133000Z
DTEND:20180506T150000Z
SUMMARY:Morning Service
END:VEVENT
END:VCALENDAR
