BEGIN:VCALENDAR
VERSION:2.0
PRODID:-//Squarespace Inc/Squarespace 6//v6//EN
BEGIN:VEVENT
UID:5ad02265758d4672dc2e3738@squarespace.com
DTSTAMP:20180413T032531Z
DTSTART:20180506T223000Z
DTEND:20180507T010000Z
SUMMARY:Evening Service
END:VEVENT
END:VCALENDAR
