BEGIN:VCALENDAR
VERSION:2.0
PRODID:-//Squarespace Inc/Squarespace 6//v6//EN
BEGIN:VEVENT
UID:5ad029722b6a28b7eaa1cb9e@squarespace.com
DTSTAMP:20180413T035521Z
DTSTART:20180527T223000Z
DTEND:20180528T010000Z
SUMMARY:Evening Service
END:VEVENT
END:VCALENDAR
