BEGIN:VCALENDAR
VERSION:2.0
PRODID:-//Squarespace Inc/Squarespace 6//v6//EN
BEGIN:VEVENT
UID:5ad02687352f539b60210e1b@squarespace.com
DTSTAMP:20180413T034534Z
DTSTART:20180520T133000Z
DTEND:20180520T150000Z
SUMMARY:Morning Service
END:VEVENT
END:VCALENDAR
