BEGIN:VCALENDAR
VERSION:2.0
PRODID:-//Squarespace Inc/Squarespace 6//v6//EN
BEGIN:VEVENT
UID:5ad025400e2e72f68a376a6c@squarespace.com
DTSTAMP:20180413T033632Z
DTSTART:20180513T133000Z
DTEND:20180513T150000Z
SUMMARY:Morning Service
END:VEVENT
END:VCALENDAR
