BEGIN:VCALENDAR
VERSION:2.0
PRODID:-//Squarespace Inc/Squarespace 6//v6//EN
BEGIN:VEVENT
UID:5ad025dc2b6a28b7eaa15695@squarespace.com
DTSTAMP:20180413T033933Z
DTSTART:20180513T223000Z
DTEND:20180514T010000Z
SUMMARY:Evening Service
END:VEVENT
END:VCALENDAR
