BEGIN:VCALENDAR
VERSION:2.0
PRODID:-//Squarespace Inc/Squarespace 6//v6//EN
BEGIN:VEVENT
UID:5ad0201d758d4672dc2de34b@squarespace.com
DTSTAMP:20180413T031456Z
DTSTART:20180429T133000Z
DTEND:20180429T150000Z
SUMMARY:Morning Service
END:VEVENT
END:VCALENDAR
