BEGIN:VCALENDAR
VERSION:2.0
PRODID:-//Squarespace Inc/Squarespace 6//v6//EN
BEGIN:VEVENT
UID:5ad020d1758d4672dc2dfc41@squarespace.com
DTSTAMP:20180413T031735Z
DTSTART:20180429T223000Z
DTEND:20180430T010000Z
SUMMARY:Evening Service
END:VEVENT
END:VCALENDAR
