BEGIN:VCALENDAR
VERSION:2.0
PRODID:-//Squarespace Inc/Squarespace 6//v6//EN
BEGIN:VEVENT
UID:5ad01d636d2a73d7d23b5b19@squarespace.com
DTSTAMP:20180413T030322Z
DTSTART:20180422T133000Z
DTEND:20180422T150000Z
SUMMARY:Morning Service
END:VEVENT
END:VCALENDAR
