BEGIN:VCALENDAR
VERSION:2.0
PRODID:-//Squarespace Inc/Squarespace 6//v6//EN
BEGIN:VEVENT
UID:5ad01f53aa4a99abb2dbaf74@squarespace.com
DTSTAMP:20180413T031219Z
DTSTART:20180422T223000Z
DTEND:20180423T010000Z
SUMMARY:Evening Service
END:VEVENT
END:VCALENDAR
