BEGIN:VCALENDAR
VERSION:2.0
PRODID:-//Squarespace Inc/Squarespace 6//v6//EN
BEGIN:VEVENT
UID:5ad01e0788251b63162f6442@squarespace.com
DTSTAMP:20180413T030807Z
DTSTART:20180415T133000Z
DTEND:20180415T150000Z
SUMMARY:Baptism Sunday
END:VEVENT
END:VCALENDAR
