BEGIN:VCALENDAR
VERSION:2.0
PRODID:-//Squarespace Inc/Squarespace 6//v6//EN
BEGIN:VEVENT
UID:5a812966c830253b8653aab1@squarespace.com
DTSTAMP:20180212T055933Z
DTSTART:20180304T143000Z
DTEND:20180304T160000Z
SUMMARY:Morning Service
END:VEVENT
END:VCALENDAR
