BEGIN:VCALENDAR
VERSION:2.0
PRODID:-//Squarespace Inc/Squarespace 6//v6//EN
BEGIN:VEVENT
UID:5a812a0453450a49814cb72f@squarespace.com
DTSTAMP:20180301T051820Z
DTSTART:20180304T233000Z
DTEND:20180305T020000Z
SUMMARY:Evening Service
END:VEVENT
END:VCALENDAR
