BEGIN:VCALENDAR
VERSION:2.0
PRODID:-//Squarespace Inc/Squarespace 6//v6//EN
BEGIN:VEVENT
UID:5aab3ddf352f5397b60bd470@squarespace.com
DTSTAMP:20180316T040555Z
DTSTART:20180325T133000Z
DTEND:20180325T150000Z
SUMMARY:Morning Service
END:VEVENT
END:VCALENDAR
