BEGIN:VCALENDAR
VERSION:2.0
PRODID:-//Squarespace Inc/Squarespace 6//v6//EN
BEGIN:VEVENT
UID:5a978c780d929798884ae23f@squarespace.com
DTSTAMP:20180301T051759Z
DTSTART:20180318T133000Z
DTEND:20180318T150000Z
SUMMARY:Morning Service
END:VEVENT
END:VCALENDAR
