BEGIN:VCALENDAR
VERSION:2.0
PRODID:-//Squarespace Inc/Squarespace 6//v6//EN
BEGIN:VEVENT
UID:5a978a1b0852296b12ea980f@squarespace.com
DTSTAMP:20180301T051103Z
DTSTART:20180311T133000Z
DTEND:20180311T150000Z
SUMMARY:Morning Service
END:VEVENT
END:VCALENDAR
