BEGIN:VCALENDAR
VERSION:2.0
PRODID:-//Squarespace Inc/Squarespace 6//v6//EN
BEGIN:VEVENT
UID:5a978b6f652dea1afc7de77b@squarespace.com
DTSTAMP:20180301T051322Z
DTSTART:20180311T223000Z
DTEND:20180312T010000Z
SUMMARY:Evening Service
END:VEVENT
END:VCALENDAR
