BEGIN:VCALENDAR
VERSION:2.0
PRODID:-//Squarespace Inc/Squarespace 6//v6//EN
BEGIN:VEVENT
UID:5a978d260d929798884b0250@squarespace.com
DTSTAMP:20180301T052342Z
DTSTART:20180318T223000Z
DTEND:20180319T010000Z
SUMMARY:Evening Service
END:VEVENT
END:VCALENDAR
