BEGIN:VCALENDAR
VERSION:2.0
PRODID:-//Squarespace Inc/Squarespace 6//v6//EN
BEGIN:VEVENT
UID:5a81273a0d92973fec0dfa0b@squarespace.com
DTSTAMP:20180212T054011Z
DTSTART:20180225T143000Z
DTEND:20180225T160000Z
SUMMARY:Morning Service
END:VEVENT
END:VCALENDAR
