BEGIN:VCALENDAR
VERSION:2.0
PRODID:-//Squarespace Inc/Squarespace 6//v6//EN
BEGIN:VEVENT
UID:5a81268dc830253b865338aa@squarespace.com
DTSTAMP:20180212T053333Z
DTSTART:20180218T233000Z
DTEND:20180219T020000Z
SUMMARY:Evening Service
END:VEVENT
END:VCALENDAR
