BEGIN:VCALENDAR
VERSION:2.0
PRODID:-//Squarespace Inc/Squarespace 6//v6//EN
BEGIN:VEVENT
UID:5a8128c424a694ef196c6dff@squarespace.com
DTSTAMP:20180212T060005Z
DTSTART:20180225T233000Z
DTEND:20180226T020000Z
SUMMARY:Evening Service
END:VEVENT
END:VCALENDAR
