BEGIN:VCALENDAR
VERSION:2.0
PRODID:-//Squarespace Inc/Squarespace 6//v6//EN
BEGIN:VEVENT
UID:5b88bcf540ec9ac78c405094@squarespace.com
DTSTAMP:20180831T040004Z
DTSTART:20181007T133000Z
DTEND:20181007T150000Z
SUMMARY:Morning Service
END:VEVENT
END:VCALENDAR
