BEGIN:VCALENDAR
VERSION:2.0
PRODID:-//Squarespace Inc/Squarespace 6//v6//EN
BEGIN:VEVENT
UID:5bc3f79c652deab94f252d68@squarespace.com
DTSTAMP:20181015T021622Z
DTSTART:20181028T223000Z
DTEND:20181029T010000Z
SUMMARY:Evening Service
END:VEVENT
END:VCALENDAR
