BEGIN:VCALENDAR
VERSION:2.0
PRODID:-//Squarespace Inc/Squarespace 6//v6//EN
BEGIN:VEVENT
UID:5bc019728165f51dc10c4edd@squarespace.com
DTSTAMP:20181012T040159Z
DTSTART:20181021T133000Z
DTEND:20181021T150000Z
SUMMARY:Morning Service
END:VEVENT
END:VCALENDAR
