BEGIN:VCALENDAR
VERSION:2.0
PRODID:-//Squarespace Inc/Squarespace 6//v6//EN
BEGIN:VEVENT
UID:5bc018ec53450a4f2efeff46@squarespace.com
DTSTAMP:20181012T034754Z
DTSTART:20181014T223000Z
DTEND:20181015T010000Z
SUMMARY:Evening Service
END:VEVENT
END:VCALENDAR
