BEGIN:VCALENDAR
VERSION:2.0
PRODID:-//Squarespace Inc/Squarespace 6//v6//EN
BEGIN:VEVENT
UID:5a37304f652dea7bc21bf564@squarespace.com
DTSTAMP:20171218T030707Z
DTSTART:20180107T143000Z
DTEND:20180107T160000Z
SUMMARY:Morning Service
END:VEVENT
END:VCALENDAR
