BEGIN:VCALENDAR
VERSION:2.0
PRODID:-//Squarespace Inc/Squarespace 6//v6//EN
BEGIN:VEVENT
UID:5a66c7f29140b7172804a7f2@squarespace.com
DTSTAMP:20180123T053718Z
DTSTART:20180128T143000Z
DTEND:20180128T160000Z
SUMMARY:Morning Service
END:VEVENT
END:VCALENDAR
