BEGIN:VCALENDAR
VERSION:2.0
PRODID:-//Squarespace Inc/Squarespace 6//v6//EN
BEGIN:VEVENT
UID:5a3730e8085229e36d02b6e6@squarespace.com
DTSTAMP:20171218T030909Z
DTSTART:20180114T143000Z
DTEND:20180114T160000Z
SUMMARY:Morning Service
END:VEVENT
END:VCALENDAR
