BEGIN:VCALENDAR
VERSION:2.0
PRODID:-//Squarespace Inc/Squarespace 6//v6//EN
BEGIN:VEVENT
UID:5a372f369140b7643700873f@squarespace.com
DTSTAMP:20171218T031405Z
DTSTART:20171231T143000Z
DTEND:20171231T160000Z
SUMMARY:Morning Service
END:VEVENT
END:VCALENDAR
