BEGIN:VCALENDAR
VERSION:2.0
PRODID:-//Squarespace Inc/Squarespace 6//v6//EN
BEGIN:VEVENT
UID:5a03f9c2e2c4838e3f1d5f58@squarespace.com
DTSTAMP:20171109T065000Z
DTSTART:20171203T143000Z
DTEND:20171203T160000Z
SUMMARY:Morning Service
END:VEVENT
END:VCALENDAR
