BEGIN:VCALENDAR
VERSION:2.0
PRODID:-//Squarespace Inc/Squarespace 6//v6//EN
BEGIN:VEVENT
UID:5a372496e4966b79a0ce5401@squarespace.com
DTSTAMP:20171218T235213Z
DTSTART:20171224T143000Z
DTEND:20171224T160000Z
SUMMARY:Morning Service
END:VEVENT
END:VCALENDAR
