BEGIN:VCALENDAR
VERSION:2.0
PRODID:-//Squarespace Inc/Squarespace 6//v6//EN
BEGIN:VEVENT
UID:5a03f6d471c10b1577ccf970@squarespace.com
DTSTAMP:20171109T064615Z
DTSTART:20171126T233000Z
DTEND:20171127T010000Z
SUMMARY:Evening Service
END:VEVENT
END:VCALENDAR
